BEGIN:VCALENDAR
VERSION:2.0
PRODID:-//Live From The Southside Magazine - ECPv6.15.20//NONSGML v1.0//EN
CALSCALE:GREGORIAN
METHOD:PUBLISH
X-ORIGINAL-URL:https://livefromthesouthside.com
X-WR-CALDESC:Events for Live From The Southside Magazine
REFRESH-INTERVAL;VALUE=DURATION:PT1H
X-Robots-Tag:noindex
X-PUBLISHED-TTL:PT1H
BEGIN:VTIMEZONE
TZID:America/Chicago
BEGIN:DAYLIGHT
TZOFFSETFROM:-0600
TZOFFSETTO:-0500
TZNAME:CDT
DTSTART:20250309T080000
END:DAYLIGHT
BEGIN:STANDARD
TZOFFSETFROM:-0500
TZOFFSETTO:-0600
TZNAME:CST
DTSTART:20251102T070000
END:STANDARD
BEGIN:DAYLIGHT
TZOFFSETFROM:-0600
TZOFFSETTO:-0500
TZNAME:CDT
DTSTART:20260308T080000
END:DAYLIGHT
BEGIN:STANDARD
TZOFFSETFROM:-0500
TZOFFSETTO:-0600
TZNAME:CST
DTSTART:20261101T070000
END:STANDARD
BEGIN:DAYLIGHT
TZOFFSETFROM:-0600
TZOFFSETTO:-0500
TZNAME:CDT
DTSTART:20270314T080000
END:DAYLIGHT
BEGIN:STANDARD
TZOFFSETFROM:-0500
TZOFFSETTO:-0600
TZNAME:CST
DTSTART:20271107T070000
END:STANDARD
END:VTIMEZONE
BEGIN:VEVENT
DTSTART;TZID=America/Chicago:20260528T180000
DTEND;TZID=America/Chicago:20260528T200000
DTSTAMP:20260423T052700
CREATED:20260416T125503Z
LAST-MODIFIED:20260416T125503Z
UID:28486-1779991200-1779998400@livefromthesouthside.com
SUMMARY:Linocut Printmaking Workshop
DESCRIPTION:Join us at the Briscoe for a Linocut Printmaking with Jack Russell\n📅Thursday May 28\, 2026 | 6:00 – 8:00pm \n👤Adults & Teens \n🎟️$20 for Members | $35 for Non-Members  \n\nPurchase Tickets Today!
URL:https://livefromthesouthside.com/event/linocut-printmaking-workshop/
LOCATION:Briscoe Western Art Museum\, 210 W Market Street\, San Antonio\, TX\, 78205\, United States
ATTACH;FMTTYPE=image/png:https://livefromthesouthside.com/wp-content/uploads/2026/04/Printmaking-Workshop-1080-x-1080-px.png
ORGANIZER;CN="Briscoe Western Art Museum":MAILTO:info@briscoemuseum.org
END:VEVENT
END:VCALENDAR