BEGIN:VCALENDAR
VERSION:2.0
PRODID:-//Live From The Southside Magazine - ECPv6.15.20//NONSGML v1.0//EN
CALSCALE:GREGORIAN
METHOD:PUBLISH
X-WR-CALNAME:Live From The Southside Magazine
X-ORIGINAL-URL:https://livefromthesouthside.com
X-WR-CALDESC:Events for Live From The Southside Magazine
REFRESH-INTERVAL;VALUE=DURATION:PT1H
X-Robots-Tag:noindex
X-PUBLISHED-TTL:PT1H
BEGIN:VTIMEZONE
TZID:America/Chicago
BEGIN:DAYLIGHT
TZOFFSETFROM:-0600
TZOFFSETTO:-0500
TZNAME:CDT
DTSTART:20250309T080000
END:DAYLIGHT
BEGIN:STANDARD
TZOFFSETFROM:-0500
TZOFFSETTO:-0600
TZNAME:CST
DTSTART:20251102T070000
END:STANDARD
BEGIN:DAYLIGHT
TZOFFSETFROM:-0600
TZOFFSETTO:-0500
TZNAME:CDT
DTSTART:20260308T080000
END:DAYLIGHT
BEGIN:STANDARD
TZOFFSETFROM:-0500
TZOFFSETTO:-0600
TZNAME:CST
DTSTART:20261101T070000
END:STANDARD
BEGIN:DAYLIGHT
TZOFFSETFROM:-0600
TZOFFSETTO:-0500
TZNAME:CDT
DTSTART:20270314T080000
END:DAYLIGHT
BEGIN:STANDARD
TZOFFSETFROM:-0500
TZOFFSETTO:-0600
TZNAME:CST
DTSTART:20271107T070000
END:STANDARD
END:VTIMEZONE
BEGIN:VEVENT
DTSTART;TZID=America/Chicago:20261017T070000
DTEND;TZID=America/Chicago:20261017T110000
DTSTAMP:20260423T040733
CREATED:20260422T195633Z
LAST-MODIFIED:20260422T195634Z
UID:29037-1792220400-1792234800@livefromthesouthside.com
SUMMARY:2026 Komen San Antonio MORE THAN PINK Walk
DESCRIPTION:Join over 7\,000 people in San Antonio as we walk to end breast cancer at the 2026 San Antonio MORE THAN PINK Walk. We show up to fund critical research and provide life-saving patient support for those fighting this disease every day. You’re not just walking\, you’re giving someone more moments with those they love.
URL:https://livefromthesouthside.com/event/2026-komen-san-antonio-more-than-pink-walk/
LOCATION:SeaWorld San Antonio\, 10500 SeaWorld Dr\, San Antonio\, TX\, 78251\, United States
ATTACH;FMTTYPE=image/jpeg:https://livefromthesouthside.com/wp-content/uploads/2026/04/KomenMoreThanPink-32-scaled.jpg
END:VEVENT
END:VCALENDAR